BEGIN:VCALENDAR
VERSION:2.0
PRODID:-//Union des sociétés locales - ECPv5.9.0//NONSGML v1.0//EN
CALSCALE:GREGORIAN
METHOD:PUBLISH
X-WR-CALNAME:Union des sociétés locales
X-ORIGINAL-URL:https://usl-corcelles.ch
X-WR-CALDESC:évènements pour Union des sociétés locales
BEGIN:VTIMEZONE
TZID:Europe/Paris
BEGIN:DAYLIGHT
TZOFFSETFROM:+0100
TZOFFSETTO:+0200
TZNAME:CEST
DTSTART:20250330T010000
END:DAYLIGHT
BEGIN:STANDARD
TZOFFSETFROM:+0200
TZOFFSETTO:+0100
TZNAME:CET
DTSTART:20251026T010000
END:STANDARD
END:VTIMEZONE
BEGIN:VEVENT
DTSTART;VALUE=DATE:20251108
DTEND;VALUE=DATE:20251109
DTSTAMP:20260422T211838
CREATED:20250206T194624Z
LAST-MODIFIED:20250916T195047Z
UID:932-1762560000-1762646399@usl-corcelles.ch
SUMMARY:60ème anniversaire APV - Souper Saint-Martin avec le groupe Storia
DESCRIPTION:Inscription sur le site : http://www.apv-corcelles.ch
URL:https://usl-corcelles.ch/event/60eme-anniversaire-apv-souper-saint-martin-avec-animation/
END:VEVENT
END:VCALENDAR