BEGIN:VCALENDAR
VERSION:2.0
PRODID:-//Union des sociétés locales - ECPv5.9.0//NONSGML v1.0//EN
CALSCALE:GREGORIAN
METHOD:PUBLISH
X-WR-CALNAME:Union des sociétés locales
X-ORIGINAL-URL:https://usl-corcelles.ch
X-WR-CALDESC:évènements pour Union des sociétés locales
BEGIN:VTIMEZONE
TZID:Europe/Paris
BEGIN:DAYLIGHT
TZOFFSETFROM:+0100
TZOFFSETTO:+0200
TZNAME:CEST
DTSTART:20230326T010000
END:DAYLIGHT
BEGIN:STANDARD
TZOFFSETFROM:+0200
TZOFFSETTO:+0100
TZNAME:CET
DTSTART:20231029T010000
END:STANDARD
END:VTIMEZONE
BEGIN:VEVENT
DTSTART;VALUE=DATE:20230224
DTEND;VALUE=DATE:20230228
DTSTAMP:20260423T110114
CREATED:20220516T083558Z
LAST-MODIFIED:20220516T083558Z
UID:684-1677196800-1677542399@usl-corcelles.ch
SUMMARY:Brandons de Payerne
DESCRIPTION:
URL:https://usl-corcelles.ch/event/brandons-de-payerne/
LOCATION:Payerne\, Payerne\, Vaud\, 1530\, Suisse
END:VEVENT
END:VCALENDAR