BEGIN:VCALENDAR
VERSION:2.0
PRODID:-//Union des sociétés locales - ECPv5.9.0//NONSGML v1.0//EN
CALSCALE:GREGORIAN
METHOD:PUBLISH
X-WR-CALNAME:Union des sociétés locales
X-ORIGINAL-URL:https://usl-corcelles.ch
X-WR-CALDESC:évènements pour Union des sociétés locales
BEGIN:VTIMEZONE
TZID:Europe/Paris
BEGIN:DAYLIGHT
TZOFFSETFROM:+0100
TZOFFSETTO:+0200
TZNAME:CEST
DTSTART:20250330T010000
END:DAYLIGHT
BEGIN:STANDARD
TZOFFSETFROM:+0200
TZOFFSETTO:+0100
TZNAME:CET
DTSTART:20251026T010000
END:STANDARD
END:VTIMEZONE
BEGIN:VEVENT
DTSTART;VALUE=DATE:20250615
DTEND;VALUE=DATE:20250616
DTSTAMP:20260420T212017
CREATED:20240509T164305Z
LAST-MODIFIED:20240806T134905Z
UID:880-1749945600-1750031999@usl-corcelles.ch
SUMMARY:Tournoi de pétanque - FCC
DESCRIPTION:
URL:https://usl-corcelles.ch/event/tournoi-de-petanque-fcc-4/
LOCATION:Stade de Freybonnaz\, Freybonnaz\, Corcelles-près-Payerne\, Vaud\, 1562\, Suisse
END:VEVENT
END:VCALENDAR